BEGIN:VCALENDAR
VERSION:2.0
PRODID:-//4000 Foundation, LTD - ECPv6.15.14//NONSGML v1.0//EN
CALSCALE:GREGORIAN
METHOD:PUBLISH
X-WR-CALNAME:4000 Foundation, LTD
X-ORIGINAL-URL:https://www.4000foundation.org
X-WR-CALDESC:Events for 4000 Foundation, LTD
REFRESH-INTERVAL;VALUE=DURATION:PT1H
X-Robots-Tag:noindex
X-PUBLISHED-TTL:PT1H
BEGIN:VTIMEZONE
TZID:America/Chicago
BEGIN:DAYLIGHT
TZOFFSETFROM:-0600
TZOFFSETTO:-0500
TZNAME:CDT
DTSTART:20220313T080000
END:DAYLIGHT
BEGIN:STANDARD
TZOFFSETFROM:-0500
TZOFFSETTO:-0600
TZNAME:CST
DTSTART:20221106T070000
END:STANDARD
BEGIN:DAYLIGHT
TZOFFSETFROM:-0600
TZOFFSETTO:-0500
TZNAME:CDT
DTSTART:20230312T080000
END:DAYLIGHT
BEGIN:STANDARD
TZOFFSETFROM:-0500
TZOFFSETTO:-0600
TZNAME:CST
DTSTART:20231105T070000
END:STANDARD
BEGIN:DAYLIGHT
TZOFFSETFROM:-0600
TZOFFSETTO:-0500
TZNAME:CDT
DTSTART:20240310T080000
END:DAYLIGHT
BEGIN:STANDARD
TZOFFSETFROM:-0500
TZOFFSETTO:-0600
TZNAME:CST
DTSTART:20241103T070000
END:STANDARD
END:VTIMEZONE
BEGIN:VEVENT
DTSTART;TZID=America/Chicago:20231015T080000
DTEND;TZID=America/Chicago:20231015T120000
DTSTAMP:20260422T054115
CREATED:20230310T153712Z
LAST-MODIFIED:20230310T153712Z
UID:5309-1697356800-1697371200@www.4000foundation.org
SUMMARY:Milwaukee Lionel Railroad Club - Toy Train Show & Sale
DESCRIPTION:CLICK ON IMAGE TO ENLARGE
URL:https://www.4000foundation.org/event/milwaukee-lionel-railroad-club-toy-train-show-sale/
LOCATION:New Berlin Entertainment Center\, 16000 West Cleveland Avenue\, New Berlin\, WI\, United States
END:VEVENT
BEGIN:VEVENT
DTSTART;TZID=America/Chicago:20231015T090000
DTEND;TZID=America/Chicago:20231015T150000
DTSTAMP:20260422T054115
CREATED:20230921T005732Z
LAST-MODIFIED:20230921T005732Z
UID:5661-1697360400-1697382000@www.4000foundation.org
SUMMARY:45th Annual Spud Valley Hobby Show
DESCRIPTION:CLICK HERE TO ENLARGE IMAGE
URL:https://www.4000foundation.org/event/45th-annual-spud-valley-hobby-show/
LOCATION:Red River Valley Fairgrounds\, 1805 Main Ave W\, West Fargo\, ND\, United States
END:VEVENT
BEGIN:VEVENT
DTSTART;TZID=America/Chicago:20231015T100000
DTEND;TZID=America/Chicago:20231015T150000
DTSTAMP:20260422T054115
CREATED:20230310T211411Z
LAST-MODIFIED:20230310T211411Z
UID:5346-1697364000-1697382000@www.4000foundation.org
SUMMARY:31st Annual Chicago Railroadiana and Model Train Show & Sale
DESCRIPTION:CLICK IMAGE TO ENLARGE
URL:https://www.4000foundation.org/event/31st-annual-chicago-railroadiana-and-model-train-show-sale/
LOCATION:Kane County Fairgrouds\, 525 S. Randall Road\, St. Charles\, IL\, 60174\, United States
END:VEVENT
END:VCALENDAR