BEGIN:VCALENDAR
VERSION:2.0
PRODID:-//4000 Foundation, LTD - ECPv6.15.14//NONSGML v1.0//EN
CALSCALE:GREGORIAN
METHOD:PUBLISH
X-WR-CALNAME:4000 Foundation, LTD
X-ORIGINAL-URL:https://www.4000foundation.org
X-WR-CALDESC:Events for 4000 Foundation, LTD
REFRESH-INTERVAL;VALUE=DURATION:PT1H
X-Robots-Tag:noindex
X-PUBLISHED-TTL:PT1H
BEGIN:VTIMEZONE
TZID:America/Chicago
BEGIN:DAYLIGHT
TZOFFSETFROM:-0600
TZOFFSETTO:-0500
TZNAME:CDT
DTSTART:20220313T080000
END:DAYLIGHT
BEGIN:STANDARD
TZOFFSETFROM:-0500
TZOFFSETTO:-0600
TZNAME:CST
DTSTART:20221106T070000
END:STANDARD
BEGIN:DAYLIGHT
TZOFFSETFROM:-0600
TZOFFSETTO:-0500
TZNAME:CDT
DTSTART:20230312T080000
END:DAYLIGHT
BEGIN:STANDARD
TZOFFSETFROM:-0500
TZOFFSETTO:-0600
TZNAME:CST
DTSTART:20231105T070000
END:STANDARD
BEGIN:DAYLIGHT
TZOFFSETFROM:-0600
TZOFFSETTO:-0500
TZNAME:CDT
DTSTART:20240310T080000
END:DAYLIGHT
BEGIN:STANDARD
TZOFFSETFROM:-0500
TZOFFSETTO:-0600
TZNAME:CST
DTSTART:20241103T070000
END:STANDARD
END:VTIMEZONE
BEGIN:VEVENT
DTSTART;TZID=America/Chicago:20231118T090000
DTEND;TZID=America/Chicago:20231118T140000
DTSTAMP:20260423T235025
CREATED:20230428T232920Z
LAST-MODIFIED:20231025T223310Z
UID:5414-1700298000-1700316000@www.4000foundation.org
SUMMARY:Greater Upper Midwest Train Show & Sale
DESCRIPTION:CLICK HERE TO ENLARGE IMAGE
URL:https://www.4000foundation.org/event/greater-upper-midwest-train-show-sale-5/
LOCATION:Century College West Campus Gym\, 3401 Century Avenue North\, White Bear Lake\, MN\, 55110\, United States
END:VEVENT
BEGIN:VEVENT
DTSTART;TZID=America/Chicago:20231118T090000
DTEND;TZID=America/Chicago:20231118T150000
DTSTAMP:20260423T235025
CREATED:20230921T004847Z
LAST-MODIFIED:20230921T004847Z
UID:5648-1700298000-1700319600@www.4000foundation.org
SUMMARY:North Central Illinois Train Fair & Farm Toy Show
DESCRIPTION:CLICK HERE TO ENLARGE IMAGE
URL:https://www.4000foundation.org/event/north-central-illinois-train-fair-farm-toy-show/
LOCATION:Bureau County Fairgrounds\, Rt 6 W. (811 W. Peru Street)\, Princeton\, IL\, 61356\, United States
END:VEVENT
BEGIN:VEVENT
DTSTART;TZID=America/Chicago:20231118T100000
DTEND;TZID=America/Chicago:20231118T170000
DTSTAMP:20260423T235025
CREATED:20230921T004459Z
LAST-MODIFIED:20230921T004459Z
UID:5642-1700301600-1700326800@www.4000foundation.org
SUMMARY:Trains at Christmas - The Sioux Valley Model Engineers Society
DESCRIPTION:        \nCLICK HERE TO ENLARGE IMAGE 1 | IMAGE 2
URL:https://www.4000foundation.org/event/trains-at-christmas-the-sioux-valley-model-engineers-society/
LOCATION:Expo Building\, Sioux Falls\, SD\, 57101\, United States
END:VEVENT
BEGIN:VEVENT
DTSTART;TZID=America/Chicago:20231118T100000
DTEND;TZID=America/Chicago:20231118T170000
DTSTAMP:20260423T235025
CREATED:20230921T005428Z
LAST-MODIFIED:20230921T005428Z
UID:5655-1700301600-1700326800@www.4000foundation.org
SUMMARY:Sioux Valley Model Engineers Society
DESCRIPTION:CLICK HERE TO ENLARGE IMAGE
URL:https://www.4000foundation.org/event/sioux-valley-model-engineers-society/
LOCATION:W H Lyon Fairgrounds\, Sioux Falls\, SD\, United States
END:VEVENT
END:VCALENDAR