BEGIN:VCALENDAR
VERSION:2.0
PRODID:-//4000 Foundation, LTD - ECPv6.15.14//NONSGML v1.0//EN
CALSCALE:GREGORIAN
METHOD:PUBLISH
X-WR-CALNAME:4000 Foundation, LTD
X-ORIGINAL-URL:https://www.4000foundation.org
X-WR-CALDESC:Events for 4000 Foundation, LTD
REFRESH-INTERVAL;VALUE=DURATION:PT1H
X-Robots-Tag:noindex
X-PUBLISHED-TTL:PT1H
BEGIN:VTIMEZONE
TZID:America/Chicago
BEGIN:DAYLIGHT
TZOFFSETFROM:-0600
TZOFFSETTO:-0500
TZNAME:CDT
DTSTART:20220313T080000
END:DAYLIGHT
BEGIN:STANDARD
TZOFFSETFROM:-0500
TZOFFSETTO:-0600
TZNAME:CST
DTSTART:20221106T070000
END:STANDARD
BEGIN:DAYLIGHT
TZOFFSETFROM:-0600
TZOFFSETTO:-0500
TZNAME:CDT
DTSTART:20230312T080000
END:DAYLIGHT
BEGIN:STANDARD
TZOFFSETFROM:-0500
TZOFFSETTO:-0600
TZNAME:CST
DTSTART:20231105T070000
END:STANDARD
BEGIN:DAYLIGHT
TZOFFSETFROM:-0600
TZOFFSETTO:-0500
TZNAME:CDT
DTSTART:20240310T080000
END:DAYLIGHT
BEGIN:STANDARD
TZOFFSETFROM:-0500
TZOFFSETTO:-0600
TZNAME:CST
DTSTART:20241103T070000
END:STANDARD
END:VTIMEZONE
BEGIN:VEVENT
DTSTART;TZID=America/Chicago:20231119T080000
DTEND;TZID=America/Chicago:20231119T120000
DTSTAMP:20260423T224251
CREATED:20230310T153732Z
LAST-MODIFIED:20230310T153732Z
UID:5312-1700380800-1700395200@www.4000foundation.org
SUMMARY:Milwaukee Lionel Railroad Club - Toy Train Show & Sale
DESCRIPTION:CLICK ON IMAGE TO ENLARGE
URL:https://www.4000foundation.org/event/milwaukee-lionel-railroad-club-toy-train-show-sale-2/
LOCATION:New Berlin Entertainment Center\, 16000 West Cleveland Avenue\, New Berlin\, WI\, United States
END:VEVENT
BEGIN:VEVENT
DTSTART;TZID=America/Chicago:20231119T100000
DTEND;TZID=America/Chicago:20231119T160000
DTSTAMP:20260423T224251
CREATED:20230921T004522Z
LAST-MODIFIED:20230921T004522Z
UID:5646-1700388000-1700409600@www.4000foundation.org
SUMMARY:Trains at Christmas - The Sioux Valley Model Engineers Society
DESCRIPTION:        \nCLICK HERE TO ENLARGE IMAGE 1 | IMAGE 2
URL:https://www.4000foundation.org/event/trains-at-christmas-the-sioux-valley-model-engineers-society-2/
LOCATION:Expo Building\, Sioux Falls\, SD\, 57101\, United States
END:VEVENT
BEGIN:VEVENT
DTSTART;TZID=America/Chicago:20231119T100000
DTEND;TZID=America/Chicago:20231119T170000
DTSTAMP:20260423T224251
CREATED:20230921T005447Z
LAST-MODIFIED:20230921T005447Z
UID:5659-1700388000-1700413200@www.4000foundation.org
SUMMARY:Sioux Valley Model Engineers Society
DESCRIPTION:CLICK HERE TO ENLARGE IMAGE
URL:https://www.4000foundation.org/event/sioux-valley-model-engineers-society-2/
LOCATION:W H Lyon Fairgrounds\, Sioux Falls\, SD\, United States
END:VEVENT
END:VCALENDAR