BEGIN:VCALENDAR
VERSION:2.0
PRODID:-//4000 Foundation, LTD - ECPv6.15.14//NONSGML v1.0//EN
CALSCALE:GREGORIAN
METHOD:PUBLISH
X-WR-CALNAME:4000 Foundation, LTD
X-ORIGINAL-URL:https://www.4000foundation.org
X-WR-CALDESC:Events for 4000 Foundation, LTD
REFRESH-INTERVAL;VALUE=DURATION:PT1H
X-Robots-Tag:noindex
X-PUBLISHED-TTL:PT1H
BEGIN:VTIMEZONE
TZID:America/Chicago
BEGIN:DAYLIGHT
TZOFFSETFROM:-0600
TZOFFSETTO:-0500
TZNAME:CDT
DTSTART:20230312T080000
END:DAYLIGHT
BEGIN:STANDARD
TZOFFSETFROM:-0500
TZOFFSETTO:-0600
TZNAME:CST
DTSTART:20231105T070000
END:STANDARD
BEGIN:DAYLIGHT
TZOFFSETFROM:-0600
TZOFFSETTO:-0500
TZNAME:CDT
DTSTART:20240310T080000
END:DAYLIGHT
BEGIN:STANDARD
TZOFFSETFROM:-0500
TZOFFSETTO:-0600
TZNAME:CST
DTSTART:20241103T070000
END:STANDARD
BEGIN:DAYLIGHT
TZOFFSETFROM:-0600
TZOFFSETTO:-0500
TZNAME:CDT
DTSTART:20250309T080000
END:DAYLIGHT
BEGIN:STANDARD
TZOFFSETFROM:-0500
TZOFFSETTO:-0600
TZNAME:CST
DTSTART:20251102T070000
END:STANDARD
END:VTIMEZONE
BEGIN:VEVENT
DTSTART;TZID=America/Chicago:20240310T090000
DTEND;TZID=America/Chicago:20240310T130000
DTSTAMP:20260423T123551
CREATED:20231214T001109Z
LAST-MODIFIED:20231214T001109Z
UID:5783-1710061200-1710075600@www.4000foundation.org
SUMMARY:Model Railroad Train Show
DESCRIPTION:CLICK HERE TO ENLARGE IMAGE
URL:https://www.4000foundation.org/event/model-railroad-train-show-4/
LOCATION:Kenosha Union Club\, 3030 39th Avenue\, Kenosha\, WI\, United States
END:VEVENT
BEGIN:VEVENT
DTSTART;TZID=America/Chicago:20240310T090000
DTEND;TZID=America/Chicago:20240310T130000
DTSTAMP:20260423T123551
CREATED:20240128T052200Z
LAST-MODIFIED:20240128T052200Z
UID:5848-1710061200-1710075600@www.4000foundation.org
SUMMARY:Swap Meets at the Kenosha Union Club
DESCRIPTION:CLICK HERE TO ENLARGE IMAGE
URL:https://www.4000foundation.org/event/swap-meets-at-the-kenosha-union-club-2/
LOCATION:Kenosha Union Club\, 3030 39th Avenue\, Kenosha\, WI\, United States
END:VEVENT
BEGIN:VEVENT
DTSTART;TZID=America/Chicago:20240310T100000
DTEND;TZID=America/Chicago:20240310T160000
DTSTAMP:20260423T123551
CREATED:20240209T153815Z
LAST-MODIFIED:20240209T153815Z
UID:5881-1710064800-1710086400@www.4000foundation.org
SUMMARY:Springfield Railroad Society\, Inc Train Fair
DESCRIPTION:CLICK HERE TO ENLARGE IMAGE
URL:https://www.4000foundation.org/event/springfield-railroad-society-inc-train-fair/
LOCATION:Orr Building
END:VEVENT
END:VCALENDAR