BEGIN:VCALENDAR
VERSION:2.0
PRODID:-//4000 Foundation, LTD - ECPv6.15.14//NONSGML v1.0//EN
CALSCALE:GREGORIAN
METHOD:PUBLISH
X-WR-CALNAME:4000 Foundation, LTD
X-ORIGINAL-URL:https://www.4000foundation.org
X-WR-CALDESC:Events for 4000 Foundation, LTD
REFRESH-INTERVAL;VALUE=DURATION:PT1H
X-Robots-Tag:noindex
X-PUBLISHED-TTL:PT1H
BEGIN:VTIMEZONE
TZID:America/Chicago
BEGIN:DAYLIGHT
TZOFFSETFROM:-0600
TZOFFSETTO:-0500
TZNAME:CDT
DTSTART:20210314T080000
END:DAYLIGHT
BEGIN:STANDARD
TZOFFSETFROM:-0500
TZOFFSETTO:-0600
TZNAME:CST
DTSTART:20211107T070000
END:STANDARD
BEGIN:DAYLIGHT
TZOFFSETFROM:-0600
TZOFFSETTO:-0500
TZNAME:CDT
DTSTART:20220313T080000
END:DAYLIGHT
BEGIN:STANDARD
TZOFFSETFROM:-0500
TZOFFSETTO:-0600
TZNAME:CST
DTSTART:20221106T070000
END:STANDARD
BEGIN:DAYLIGHT
TZOFFSETFROM:-0600
TZOFFSETTO:-0500
TZNAME:CDT
DTSTART:20230312T080000
END:DAYLIGHT
BEGIN:STANDARD
TZOFFSETFROM:-0500
TZOFFSETTO:-0600
TZNAME:CST
DTSTART:20231105T070000
END:STANDARD
END:VTIMEZONE
BEGIN:VEVENT
DTSTART;TZID=America/Chicago:20220424T090000
DTEND;TZID=America/Chicago:20220424T150000
DTSTAMP:20260423T042843
CREATED:20220225T002226Z
LAST-MODIFIED:20220225T002226Z
UID:4578-1650790800-1650812400@www.4000foundation.org
SUMMARY:Chicago Railroad Memorabilia Show
DESCRIPTION:
URL:https://www.4000foundation.org/event/chicago-railroad-memorabilia-show/
LOCATION:Holiday Inn Elk Grove Village\, 1000 Busse Road\, Elk Grove Village\, IL\, United States
END:VEVENT
BEGIN:VEVENT
DTSTART;TZID=America/Chicago:20220423T080000
DTEND;TZID=America/Chicago:20220423T150000
DTSTAMP:20260423T042843
CREATED:20220324T005231Z
LAST-MODIFIED:20220324T005231Z
UID:4618-1650700800-1650726000@www.4000foundation.org
SUMMARY:Model Train Show
DESCRIPTION:
URL:https://www.4000foundation.org/event/model-train-show-4/
LOCATION:Watonwan County Fairgrounds\, 53 11th St. South\, St. James\, WI\, United States
END:VEVENT
END:VCALENDAR