BEGIN:VCALENDAR
VERSION:2.0
PRODID:-//4000 Foundation, LTD - ECPv6.15.14//NONSGML v1.0//EN
CALSCALE:GREGORIAN
METHOD:PUBLISH
X-ORIGINAL-URL:https://www.4000foundation.org
X-WR-CALDESC:Events for 4000 Foundation, LTD
REFRESH-INTERVAL;VALUE=DURATION:PT1H
X-Robots-Tag:noindex
X-PUBLISHED-TTL:PT1H
BEGIN:VTIMEZONE
TZID:America/Chicago
BEGIN:DAYLIGHT
TZOFFSETFROM:-0600
TZOFFSETTO:-0500
TZNAME:CDT
DTSTART:20230312T080000
END:DAYLIGHT
BEGIN:STANDARD
TZOFFSETFROM:-0500
TZOFFSETTO:-0600
TZNAME:CST
DTSTART:20231105T070000
END:STANDARD
BEGIN:DAYLIGHT
TZOFFSETFROM:-0600
TZOFFSETTO:-0500
TZNAME:CDT
DTSTART:20240310T080000
END:DAYLIGHT
BEGIN:STANDARD
TZOFFSETFROM:-0500
TZOFFSETTO:-0600
TZNAME:CST
DTSTART:20241103T070000
END:STANDARD
BEGIN:DAYLIGHT
TZOFFSETFROM:-0600
TZOFFSETTO:-0500
TZNAME:CDT
DTSTART:20250309T080000
END:DAYLIGHT
BEGIN:STANDARD
TZOFFSETFROM:-0500
TZOFFSETTO:-0600
TZNAME:CST
DTSTART:20251102T070000
END:STANDARD
END:VTIMEZONE
BEGIN:VEVENT
DTSTART;TZID=America/Chicago:20240114T090000
DTEND;TZID=America/Chicago:20240114T130000
DTSTAMP:20260423T081719
CREATED:20231214T001045Z
LAST-MODIFIED:20231214T001045Z
UID:5781-1705222800-1705237200@www.4000foundation.org
SUMMARY:Model Railroad Train Show
DESCRIPTION:CLICK HERE TO ENLARGE IMAGE
URL:https://www.4000foundation.org/event/model-railroad-train-show-3/
LOCATION:Kenosha Union Club\, 3030 39th Avenue\, Kenosha\, WI\, United States
END:VEVENT
BEGIN:VEVENT
DTSTART;TZID=America/Chicago:20240121T080000
DTEND;TZID=America/Chicago:20240121T120000
DTSTAMP:20260423T081719
CREATED:20230310T153800Z
LAST-MODIFIED:20230310T153800Z
UID:5316-1705824000-1705838400@www.4000foundation.org
SUMMARY:Milwaukee Lionel Railroad Club - Toy Train Show & Sale
DESCRIPTION:CLICK ON IMAGE TO ENLARGE
URL:https://www.4000foundation.org/event/milwaukee-lionel-railroad-club-toy-train-show-sale-10/
LOCATION:New Berlin Entertainment Center\, 16000 West Cleveland Avenue\, New Berlin\, WI\, United States
END:VEVENT
BEGIN:VEVENT
DTSTART;TZID=America/Chicago:20240127T090000
DTEND;TZID=America/Chicago:20240127T150000
DTSTAMP:20260423T081719
CREATED:20230918T011804Z
LAST-MODIFIED:20230918T011804Z
UID:5630-1706346000-1706367600@www.4000foundation.org
SUMMARY:32nd Annual Great Tri-State Rail Sale
DESCRIPTION:CLICK HERE TO ENLARGE IMAGE
URL:https://www.4000foundation.org/event/32nd-annual-great-tri-state-rail-sale/
LOCATION:La Crosse Center\, La Crosse\, 54601\, United States
END:VEVENT
END:VCALENDAR