BEGIN:VCALENDAR
VERSION:2.0
PRODID:-//4000 Foundation, LTD - ECPv6.15.14//NONSGML v1.0//EN
CALSCALE:GREGORIAN
METHOD:PUBLISH
X-WR-CALNAME:4000 Foundation, LTD
X-ORIGINAL-URL:https://www.4000foundation.org
X-WR-CALDESC:Events for 4000 Foundation, LTD
REFRESH-INTERVAL;VALUE=DURATION:PT1H
X-Robots-Tag:noindex
X-PUBLISHED-TTL:PT1H
BEGIN:VTIMEZONE
TZID:America/Chicago
BEGIN:DAYLIGHT
TZOFFSETFROM:-0600
TZOFFSETTO:-0500
TZNAME:CDT
DTSTART:20230312T080000
END:DAYLIGHT
BEGIN:STANDARD
TZOFFSETFROM:-0500
TZOFFSETTO:-0600
TZNAME:CST
DTSTART:20231105T070000
END:STANDARD
BEGIN:DAYLIGHT
TZOFFSETFROM:-0600
TZOFFSETTO:-0500
TZNAME:CDT
DTSTART:20240310T080000
END:DAYLIGHT
BEGIN:STANDARD
TZOFFSETFROM:-0500
TZOFFSETTO:-0600
TZNAME:CST
DTSTART:20241103T070000
END:STANDARD
BEGIN:DAYLIGHT
TZOFFSETFROM:-0600
TZOFFSETTO:-0500
TZNAME:CDT
DTSTART:20250309T080000
END:DAYLIGHT
BEGIN:STANDARD
TZOFFSETFROM:-0500
TZOFFSETTO:-0600
TZNAME:CST
DTSTART:20251102T070000
END:STANDARD
END:VTIMEZONE
BEGIN:VEVENT
DTSTART;TZID=America/Chicago:20240203T090000
DTEND;TZID=America/Chicago:20240203T140000
DTSTAMP:20260423T094710
CREATED:20231126T164845Z
LAST-MODIFIED:20231126T164845Z
UID:5767-1706950800-1706968800@www.4000foundation.org
SUMMARY:Greater Upper Midwest Train Show & Sale
DESCRIPTION:CLICK HERE TO ENLARGE IMAGE
URL:https://www.4000foundation.org/event/greater-upper-midwest-train-show-sale-6/
LOCATION:Century College West Campus Gym\, 3401 Century Avenue North\, White Bear Lake\, MN\, 55110\, United States
END:VEVENT
BEGIN:VEVENT
DTSTART;TZID=America/Chicago:20240203T100000
DTEND;TZID=America/Chicago:20240203T160000
DTSTAMP:20260423T094710
CREATED:20230310T154402Z
LAST-MODIFIED:20230310T154402Z
UID:5337-1706954400-1706976000@www.4000foundation.org
SUMMARY:2024 Monticello\, Iowa Annual Train Show & Swap Meet
DESCRIPTION:CLICK IMAGE TO ENLARGE
URL:https://www.4000foundation.org/event/2024-monticello-iowa-annual-train-show-swap-meet/
LOCATION:Berndes Center\, Jones County Fairgrounds\, 766 N. Maple Street\, Monticello\, IA\, 52310\, United States
END:VEVENT
BEGIN:VEVENT
DTSTART;TZID=America/Chicago:20240204T090000
DTEND;TZID=America/Chicago:20240204T140000
DTSTAMP:20260423T094710
CREATED:20230310T154430Z
LAST-MODIFIED:20230310T154430Z
UID:5340-1707037200-1707055200@www.4000foundation.org
SUMMARY:2024 Monticello\, Iowa Annual Train Show & Swap Meet
DESCRIPTION:CLICK IMAGE TO ENLARGE
URL:https://www.4000foundation.org/event/2024-monticello-iowa-annual-train-show-swap-meet-2/
LOCATION:Berndes Center\, Jones County Fairgrounds\, 766 N. Maple Street\, Monticello\, IA\, 52310\, United States
END:VEVENT
BEGIN:VEVENT
DTSTART;TZID=America/Chicago:20240210T100000
DTEND;TZID=America/Chicago:20240210T170000
DTSTAMP:20260423T094710
CREATED:20240128T051902Z
LAST-MODIFIED:20240128T051902Z
UID:5840-1707559200-1707584400@www.4000foundation.org
SUMMARY:43rd Annual Barron County Model Railroad Club Show
DESCRIPTION:CLICK HERE TO ENLARGE IMAGE
URL:https://www.4000foundation.org/event/43rd-annual-barron-county-model-railroad-club-show/
LOCATION:Cedar Mall\, Rice Lake\, WI
END:VEVENT
BEGIN:VEVENT
DTSTART;TZID=America/Chicago:20240211T090000
DTEND;TZID=America/Chicago:20240211T130000
DTSTAMP:20260423T094710
CREATED:20231214T001017Z
LAST-MODIFIED:20231214T001017Z
UID:5779-1707642000-1707656400@www.4000foundation.org
SUMMARY:Model Railroad Train Show
DESCRIPTION:CLICK HERE TO ENLARGE IMAGE
URL:https://www.4000foundation.org/event/model-railroad-train-show-2/
LOCATION:Kenosha Union Club\, 3030 39th Avenue\, Kenosha\, WI\, United States
END:VEVENT
BEGIN:VEVENT
DTSTART;TZID=America/Chicago:20240211T090000
DTEND;TZID=America/Chicago:20240211T130000
DTSTAMP:20260423T094710
CREATED:20240128T052141Z
LAST-MODIFIED:20240128T052141Z
UID:5845-1707642000-1707656400@www.4000foundation.org
SUMMARY:Swap Meets at the Kenosha Union Club
DESCRIPTION:CLICK HERE TO ENLARGE IMAGE
URL:https://www.4000foundation.org/event/swap-meets-at-the-kenosha-union-club/
LOCATION:Kenosha Union Club\, 3030 39th Avenue\, Kenosha\, WI\, United States
END:VEVENT
BEGIN:VEVENT
DTSTART;TZID=America/Chicago:20240211T110000
DTEND;TZID=America/Chicago:20240211T160000
DTSTAMP:20260423T094710
CREATED:20240128T051925Z
LAST-MODIFIED:20240128T051925Z
UID:5843-1707649200-1707667200@www.4000foundation.org
SUMMARY:43rd Annual Barron County Model Railroad Club Show
DESCRIPTION:CLICK HERE TO ENLARGE IMAGE
URL:https://www.4000foundation.org/event/43rd-annual-barron-county-model-railroad-club-show-2/
LOCATION:Cedar Mall\, Rice Lake\, WI
END:VEVENT
BEGIN:VEVENT
DTSTART;TZID=America/Chicago:20240217T090000
DTEND;TZID=America/Chicago:20240217T140000
DTSTAMP:20260423T094710
CREATED:20240209T155642Z
LAST-MODIFIED:20240209T155642Z
UID:5914-1708160400-1708178400@www.4000foundation.org
SUMMARY:Train Fair & Farm Toy Show
DESCRIPTION:CLICK HERE TO ENLAGE
URL:https://www.4000foundation.org/event/train-fair-farm-toy-show/
LOCATION:Bureau County Fairgrounds\, Rt 6 W. (811 W. Peru Street)\, Princeton\, IL\, 61356\, United States
END:VEVENT
BEGIN:VEVENT
DTSTART;TZID=America/Chicago:20240217T090000
DTEND;TZID=America/Chicago:20240217T170000
DTSTAMP:20260423T094710
CREATED:20240209T155850Z
LAST-MODIFIED:20240209T155850Z
UID:5918-1708160400-1708189200@www.4000foundation.org
SUMMARY:Mad City Train Show
DESCRIPTION:Mad City CLICK HERE TO SEE FLYER
URL:https://www.4000foundation.org/event/mad-city-train-show/
LOCATION:Alliant Energy Center\, Madison\, WI\, United States
END:VEVENT
BEGIN:VEVENT
DTSTART;TZID=America/Chicago:20240218T090000
DTEND;TZID=America/Chicago:20240218T160000
DTSTAMP:20260423T094710
CREATED:20240209T155913Z
LAST-MODIFIED:20240209T155913Z
UID:5921-1708246800-1708272000@www.4000foundation.org
SUMMARY:Mad City Train Show
DESCRIPTION:Mad City CLICK HERE TO SEE FLYER
URL:https://www.4000foundation.org/event/mad-city-train-show-2/
LOCATION:Alliant Energy Center\, Madison\, WI\, United States
END:VEVENT
BEGIN:VEVENT
DTSTART;TZID=America/Chicago:20240218T100000
DTEND;TZID=America/Chicago:20240218T150000
DTSTAMP:20260423T094710
CREATED:20240209T153230Z
LAST-MODIFIED:20240209T153230Z
UID:5871-1708250400-1708268400@www.4000foundation.org
SUMMARY:Peoria Train Fair
DESCRIPTION:CLICK HERE TO ENLARGE IMAGE
URL:https://www.4000foundation.org/event/peoria-train-fair-2/
LOCATION:Illinois Central College\, Rt 24.\, East Peoria\, IL\, United States
END:VEVENT
BEGIN:VEVENT
DTSTART;TZID=America/Chicago:20240225T080000
DTEND;TZID=America/Chicago:20240225T120000
DTSTAMP:20260423T094710
CREATED:20230310T153811Z
LAST-MODIFIED:20230310T153811Z
UID:5318-1708848000-1708862400@www.4000foundation.org
SUMMARY:Milwaukee Lionel Railroad Club - Toy Train Show & Sale
DESCRIPTION:CLICK ON IMAGE TO ENLARGE
URL:https://www.4000foundation.org/event/milwaukee-lionel-railroad-club-toy-train-show-sale-11/
LOCATION:New Berlin Entertainment Center\, 16000 West Cleveland Avenue\, New Berlin\, WI\, United States
END:VEVENT
BEGIN:VEVENT
DTSTART;TZID=America/Chicago:20240225T090000
DTEND;TZID=America/Chicago:20240225T140000
DTSTAMP:20260423T094710
CREATED:20240209T154340Z
LAST-MODIFIED:20240209T154340Z
UID:5889-1708851600-1708869600@www.4000foundation.org
SUMMARY:83rd Illinois Plastic Kit & Toy Show
DESCRIPTION:CLICK HERE TO ENLARGE IMAGE
URL:https://www.4000foundation.org/event/83rd-illinois-plastic-kit-toy-show/
LOCATION:DuPage County Fairgrouds\, 2015 Manchester Road\, Wheaton\, IL\, 60187\, United States
END:VEVENT
END:VCALENDAR