BEGIN:VCALENDAR
VERSION:2.0
PRODID:-//4000 Foundation, LTD - ECPv6.15.14//NONSGML v1.0//EN
CALSCALE:GREGORIAN
METHOD:PUBLISH
X-WR-CALNAME:4000 Foundation, LTD
X-ORIGINAL-URL:https://www.4000foundation.org
X-WR-CALDESC:Events for 4000 Foundation, LTD
REFRESH-INTERVAL;VALUE=DURATION:PT1H
X-Robots-Tag:noindex
X-PUBLISHED-TTL:PT1H
BEGIN:VTIMEZONE
TZID:America/Chicago
BEGIN:DAYLIGHT
TZOFFSETFROM:-0600
TZOFFSETTO:-0500
TZNAME:CDT
DTSTART:20230312T080000
END:DAYLIGHT
BEGIN:STANDARD
TZOFFSETFROM:-0500
TZOFFSETTO:-0600
TZNAME:CST
DTSTART:20231105T070000
END:STANDARD
BEGIN:DAYLIGHT
TZOFFSETFROM:-0600
TZOFFSETTO:-0500
TZNAME:CDT
DTSTART:20240310T080000
END:DAYLIGHT
BEGIN:STANDARD
TZOFFSETFROM:-0500
TZOFFSETTO:-0600
TZNAME:CST
DTSTART:20241103T070000
END:STANDARD
BEGIN:DAYLIGHT
TZOFFSETFROM:-0600
TZOFFSETTO:-0500
TZNAME:CDT
DTSTART:20250309T080000
END:DAYLIGHT
BEGIN:STANDARD
TZOFFSETFROM:-0500
TZOFFSETTO:-0600
TZNAME:CST
DTSTART:20251102T070000
END:STANDARD
END:VTIMEZONE
BEGIN:VEVENT
DTSTART;TZID=America/Chicago:20240302T090000
DTEND;TZID=America/Chicago:20240302T140000
DTSTAMP:20260423T111239
CREATED:20230329T233325Z
LAST-MODIFIED:20230709T175116Z
UID:5398-1709370000-1709388000@www.4000foundation.org
SUMMARY:4th Annual Model Railroad Show and Swap Meet
DESCRIPTION:CLICK IMAGE TO ENLARGE
URL:https://www.4000foundation.org/event/4th-annual-model-railroad-show-and-swap-meet/
LOCATION:Dubuque County Fairgrounds\, 14569 Old Highway Road\, Dubuque\, IA\, United States
END:VEVENT
BEGIN:VEVENT
DTSTART;TZID=America/Chicago:20240302T090000
DTEND;TZID=America/Chicago:20240302T160000
DTSTAMP:20260423T111239
CREATED:20240209T155244Z
LAST-MODIFIED:20240209T155244Z
UID:5906-1709370000-1709395200@www.4000foundation.org
SUMMARY:4th Annual Model Railroad Show And Swap Meet
DESCRIPTION:CLICK HERE TO ENLARGE IMAGE
URL:https://www.4000foundation.org/event/4th-annual-model-railroad-show-and-swap-meet-2/
LOCATION:Dubuque County Fairgrounds\, 14569 Old Highway Road\, Dubuque\, IA\, United States
END:VEVENT
BEGIN:VEVENT
DTSTART;TZID=America/Chicago:20240309T090000
DTEND;TZID=America/Chicago:20240309T150000
DTSTAMP:20260423T111239
CREATED:20240118T234502Z
LAST-MODIFIED:20240118T234502Z
UID:5806-1709974800-1709996400@www.4000foundation.org
SUMMARY:Granite City Train Show
DESCRIPTION:CLICK IMAGE TO ENLARGE
URL:https://www.4000foundation.org/event/granite-city-train-show-4/
LOCATION:River’s Edge Convention Center\, 10 4th Avenue South\, St. Cloud\, MN\, United States
END:VEVENT
BEGIN:VEVENT
DTSTART;TZID=America/Chicago:20240310T090000
DTEND;TZID=America/Chicago:20240310T130000
DTSTAMP:20260423T111239
CREATED:20231214T001109Z
LAST-MODIFIED:20231214T001109Z
UID:5783-1710061200-1710075600@www.4000foundation.org
SUMMARY:Model Railroad Train Show
DESCRIPTION:CLICK HERE TO ENLARGE IMAGE
URL:https://www.4000foundation.org/event/model-railroad-train-show-4/
LOCATION:Kenosha Union Club\, 3030 39th Avenue\, Kenosha\, WI\, United States
END:VEVENT
BEGIN:VEVENT
DTSTART;TZID=America/Chicago:20240310T090000
DTEND;TZID=America/Chicago:20240310T130000
DTSTAMP:20260423T111239
CREATED:20240128T052200Z
LAST-MODIFIED:20240128T052200Z
UID:5848-1710061200-1710075600@www.4000foundation.org
SUMMARY:Swap Meets at the Kenosha Union Club
DESCRIPTION:CLICK HERE TO ENLARGE IMAGE
URL:https://www.4000foundation.org/event/swap-meets-at-the-kenosha-union-club-2/
LOCATION:Kenosha Union Club\, 3030 39th Avenue\, Kenosha\, WI\, United States
END:VEVENT
BEGIN:VEVENT
DTSTART;TZID=America/Chicago:20240310T100000
DTEND;TZID=America/Chicago:20240310T160000
DTSTAMP:20260423T111239
CREATED:20240209T153815Z
LAST-MODIFIED:20240209T153815Z
UID:5881-1710064800-1710086400@www.4000foundation.org
SUMMARY:Springfield Railroad Society\, Inc Train Fair
DESCRIPTION:CLICK HERE TO ENLARGE IMAGE
URL:https://www.4000foundation.org/event/springfield-railroad-society-inc-train-fair/
LOCATION:Orr Building
END:VEVENT
BEGIN:VEVENT
DTSTART;TZID=America/Chicago:20240314T120000
DTEND;TZID=America/Chicago:20240314T170000
DTSTAMP:20260423T111239
CREATED:20240128T051537Z
LAST-MODIFIED:20240128T051537Z
UID:5830-1710417600-1710435600@www.4000foundation.org
SUMMARY:March-O-Scale-Meet
DESCRIPTION:CLICK HERE TO ENLARGE IMAGE
URL:https://www.4000foundation.org/event/march-o-scale-meet/
LOCATION:Westin Lombard Yorktown Center\, 70 Yorktown Center\, Lombard\, IL\, 60148\, United States
END:VEVENT
BEGIN:VEVENT
DTSTART;TZID=America/Chicago:20240315T130000
DTEND;TZID=America/Chicago:20240315T210000
DTSTAMP:20260423T111239
CREATED:20240128T051602Z
LAST-MODIFIED:20240128T051602Z
UID:5834-1710507600-1710536400@www.4000foundation.org
SUMMARY:March-O-Scale-Meet
DESCRIPTION:CLICK HERE TO ENLARGE IMAGE
URL:https://www.4000foundation.org/event/march-o-scale-meet-2/
LOCATION:Westin Lombard Yorktown Center\, 70 Yorktown Center\, Lombard\, IL\, 60148\, United States
END:VEVENT
BEGIN:VEVENT
DTSTART;TZID=America/Chicago:20240316T090000
DTEND;TZID=America/Chicago:20240316T170000
DTSTAMP:20260423T111239
CREATED:20240128T051630Z
LAST-MODIFIED:20240128T051630Z
UID:5836-1710579600-1710608400@www.4000foundation.org
SUMMARY:March-O-Scale-Meet
DESCRIPTION:CLICK HERE TO ENLARGE IMAGE
URL:https://www.4000foundation.org/event/march-o-scale-meet-3/
LOCATION:Westin Lombard Yorktown Center\, 70 Yorktown Center\, Lombard\, IL\, 60148\, United States
END:VEVENT
BEGIN:VEVENT
DTSTART;TZID=America/Chicago:20240317T080000
DTEND;TZID=America/Chicago:20240317T120000
DTSTAMP:20260423T111239
CREATED:20230310T153821Z
LAST-MODIFIED:20230310T153821Z
UID:5320-1710662400-1710676800@www.4000foundation.org
SUMMARY:Milwaukee Lionel Railroad Club - Toy Train Show & Sale
DESCRIPTION:CLICK ON IMAGE TO ENLARGE
URL:https://www.4000foundation.org/event/milwaukee-lionel-railroad-club-toy-train-show-sale-12/
LOCATION:New Berlin Entertainment Center\, 16000 West Cleveland Avenue\, New Berlin\, WI\, United States
END:VEVENT
BEGIN:VEVENT
DTSTART;TZID=America/Chicago:20240317T090000
DTEND;TZID=America/Chicago:20240317T160000
DTSTAMP:20260423T111239
CREATED:20240128T051653Z
LAST-MODIFIED:20240128T051653Z
UID:5838-1710666000-1710691200@www.4000foundation.org
SUMMARY:March-O-Scale-Meet
DESCRIPTION:CLICK HERE TO ENLARGE IMAGE
URL:https://www.4000foundation.org/event/march-o-scale-meet-4/
LOCATION:Westin Lombard Yorktown Center\, 70 Yorktown Center\, Lombard\, IL\, 60148\, United States
END:VEVENT
BEGIN:VEVENT
DTSTART;TZID=America/Chicago:20240322T090000
DTEND;TZID=America/Chicago:20240322T150000
DTSTAMP:20260423T111239
CREATED:20240118T235041Z
LAST-MODIFIED:20240118T235041Z
UID:5813-1711098000-1711119600@www.4000foundation.org
SUMMARY:Randolph Railroad Days
DESCRIPTION:CLICK ON IMAGE TO ENLARGE
URL:https://www.4000foundation.org/event/randolph-railroad-days-5/
LOCATION:Randolph Minnesota High School\, 29110 Davisson Avenue\, Randolphe\, MN\, 55065\, United States
END:VEVENT
BEGIN:VEVENT
DTSTART;TZID=America/Chicago:20240323T100000
DTEND;TZID=America/Chicago:20240323T140000
DTSTAMP:20260423T111239
CREATED:20240118T235107Z
LAST-MODIFIED:20240118T235107Z
UID:5816-1711188000-1711202400@www.4000foundation.org
SUMMARY:Randolph Railroad Days
DESCRIPTION:CLICK ON IMAGE TO ENLARGE
URL:https://www.4000foundation.org/event/randolph-railroad-days-6/
LOCATION:Randolph Minnesota High School\, 29110 Davisson Avenue\, Randolphe\, MN\, 55065\, United States
END:VEVENT
BEGIN:VEVENT
DTSTART;TZID=America/Chicago:20240323T110000
DTEND;TZID=America/Chicago:20240323T160000
DTSTAMP:20260423T111239
CREATED:20240209T154005Z
LAST-MODIFIED:20240209T154005Z
UID:5884-1711191600-1711209600@www.4000foundation.org
SUMMARY:Lake County Model Railroad Club Spring Open House
DESCRIPTION:CLICK HERE TO ENLARGE IMAGE
URL:https://www.4000foundation.org/event/lake-county-model-railroad-club-spring-open-house/
LOCATION:Lake County Model Railroad Club\, 107 S. Main Street\, Wauconda\, IL\, United States
END:VEVENT
BEGIN:VEVENT
DTSTART;TZID=America/Chicago:20240324T110000
DTEND;TZID=America/Chicago:20240324T160000
DTSTAMP:20260423T111239
CREATED:20240209T154026Z
LAST-MODIFIED:20240209T154026Z
UID:5887-1711278000-1711296000@www.4000foundation.org
SUMMARY:Lake County Model Railroad Club Spring Open House
DESCRIPTION:CLICK HERE TO ENLARGE IMAGE
URL:https://www.4000foundation.org/event/lake-county-model-railroad-club-spring-open-house-2/
LOCATION:Lake County Model Railroad Club\, 107 S. Main Street\, Wauconda\, IL\, United States
END:VEVENT
END:VCALENDAR